BEGIN:VCALENDAR
VERSION:2.0
PRODID:https://www.kufer.de/kuferweb / DE
METHOD:PUBLISH
CALSCALE:GREGORIAN
X-WR-TIMEZONE:Europe/Berlin
BEGIN:VTIMEZONE
TZID:Europe/Berlin
X-LIC-LOCATION:Europe/Berlin
BEGIN:DAYLIGHT
TZOFFSETFROM:+0100
TZOFFSETTO:+0200
TZNAME:CEST
DTSTART:19700329T020000
RRULE:FREQ=YEARLY;INTERVAL=1;BYDAY=-1SU;BYMONTH=3
END:DAYLIGHT
BEGIN:STANDARD
TZOFFSETFROM:+0200
TZOFFSETTO:+0100
TZNAME:CET
DTSTART:19701025T030000
RRULE:FREQ=YEARLY;INTERVAL=1;BYDAY=-1SU;BYMONTH=10
END:STANDARD
END:VTIMEZONE
BEGIN:VEVENT
DTSTAMP:20260420T104422
DTSTART;TZID=Europe/Berlin:20260422T190000
DTEND;TZID=Europe/Berlin:20260422T211500
UID:BV8419BO-20260422T190000@KULTURFORUMSTEINFURT
SUMMARY:Nähtreff für Erwachsene (BV8419BO) 
LOCATION:Nikomedesschule Borghorst; Raum 110, Kapellenstraße 7, 48565 Steinfurt
END:VEVENT
BEGIN:VEVENT
DTSTAMP:20260420T104422
DTSTART;TZID=Europe/Berlin:20260506T190000
DTEND;TZID=Europe/Berlin:20260506T211500
UID:BV8419BO-20260506T190000@KULTURFORUMSTEINFURT
SUMMARY:Nähtreff für Erwachsene (BV8419BO) 
LOCATION:Nikomedesschule Borghorst; Raum 110, Kapellenstraße 7, 48565 Steinfurt
END:VEVENT
BEGIN:VEVENT
DTSTAMP:20260420T104422
DTSTART;TZID=Europe/Berlin:20260520T190000
DTEND;TZID=Europe/Berlin:20260520T211500
UID:BV8419BO-20260520T190000@KULTURFORUMSTEINFURT
SUMMARY:Nähtreff für Erwachsene (BV8419BO) 
LOCATION:Nikomedesschule Borghorst; Raum 110, Kapellenstraße 7, 48565 Steinfurt
END:VEVENT
BEGIN:VEVENT
DTSTAMP:20260420T104422
DTSTART;TZID=Europe/Berlin:20260603T190000
DTEND;TZID=Europe/Berlin:20260603T211500
UID:BV8419BO-20260603T190000@KULTURFORUMSTEINFURT
SUMMARY:Nähtreff für Erwachsene (BV8419BO) 
LOCATION:Nikomedesschule Borghorst; Raum 110, Kapellenstraße 7, 48565 Steinfurt
END:VEVENT
BEGIN:VEVENT
DTSTAMP:20260420T104422
DTSTART;TZID=Europe/Berlin:20260617T190000
DTEND;TZID=Europe/Berlin:20260617T211500
UID:BV8419BO-20260617T190000@KULTURFORUMSTEINFURT
SUMMARY:Nähtreff für Erwachsene (BV8419BO) 
LOCATION:Nikomedesschule Borghorst; Raum 110, Kapellenstraße 7, 48565 Steinfurt
END:VEVENT
BEGIN:VEVENT
DTSTAMP:20260420T104422
DTSTART;TZID=Europe/Berlin:20260701T190000
DTEND;TZID=Europe/Berlin:20260701T211500
UID:BV8419BO-20260701T190000@KULTURFORUMSTEINFURT
SUMMARY:Nähtreff für Erwachsene (BV8419BO) 
LOCATION:Nikomedesschule Borghorst; Raum 110, Kapellenstraße 7, 48565 Steinfurt
END:VEVENT
END:VCALENDAR