BEGIN:VCALENDAR
VERSION:2.0
PRODID:https://www.kufer.de/kuferweb / DE
METHOD:PUBLISH
CALSCALE:GREGORIAN
X-WR-TIMEZONE:Europe/Berlin
BEGIN:VTIMEZONE
TZID:Europe/Berlin
X-LIC-LOCATION:Europe/Berlin
BEGIN:DAYLIGHT
TZOFFSETFROM:+0100
TZOFFSETTO:+0200
TZNAME:CEST
DTSTART:19700329T020000
RRULE:FREQ=YEARLY;INTERVAL=1;BYDAY=-1SU;BYMONTH=3
END:DAYLIGHT
BEGIN:STANDARD
TZOFFSETFROM:+0200
TZOFFSETTO:+0100
TZNAME:CET
DTSTART:19701025T030000
RRULE:FREQ=YEARLY;INTERVAL=1;BYDAY=-1SU;BYMONTH=10
END:STANDARD
END:VTIMEZONE
BEGIN:VEVENT
DTSTAMP:20260421T131156
DTSTART;TZID=Europe/Berlin:20260330T090000
DTEND;TZID=Europe/Berlin:20260330T120000
UID:BV6347BU-20260330T090000@KULTURFORUMSTEINFURT
SUMMARY:Einstieg in das Tastschreiben am PC für Kids ab 10 Jahren - Osterferien-Intensivkurs (BV6347BU) 
LOCATION:Hohe Schule Burgsteinfurt; Raum 12 (EDV-Raum), An der Hohen Schule 14, 48565 Steinfurt
END:VEVENT
BEGIN:VEVENT
DTSTAMP:20260421T131156
DTSTART;TZID=Europe/Berlin:20260331T090000
DTEND;TZID=Europe/Berlin:20260331T120000
UID:BV6347BU-20260331T090000@KULTURFORUMSTEINFURT
SUMMARY:Einstieg in das Tastschreiben am PC für Kids ab 10 Jahren - Osterferien-Intensivkurs (BV6347BU) 
LOCATION:Hohe Schule Burgsteinfurt; Raum 12 (EDV-Raum), An der Hohen Schule 14, 48565 Steinfurt
END:VEVENT
BEGIN:VEVENT
DTSTAMP:20260421T131156
DTSTART;TZID=Europe/Berlin:20260401T090000
DTEND;TZID=Europe/Berlin:20260401T120000
UID:BV6347BU-20260401T090000@KULTURFORUMSTEINFURT
SUMMARY:Einstieg in das Tastschreiben am PC für Kids ab 10 Jahren - Osterferien-Intensivkurs (BV6347BU) 
LOCATION:Hohe Schule Burgsteinfurt; Raum 12 (EDV-Raum), An der Hohen Schule 14, 48565 Steinfurt
END:VEVENT
BEGIN:VEVENT
DTSTAMP:20260421T131156
DTSTART;TZID=Europe/Berlin:20260402T090000
DTEND;TZID=Europe/Berlin:20260402T120000
UID:BV6347BU-20260402T090000@KULTURFORUMSTEINFURT
SUMMARY:Einstieg in das Tastschreiben am PC für Kids ab 10 Jahren - Osterferien-Intensivkurs (BV6347BU) 
LOCATION:Hohe Schule Burgsteinfurt; Raum 12 (EDV-Raum), An der Hohen Schule 14, 48565 Steinfurt
END:VEVENT
END:VCALENDAR